BEGIN:VCALENDAR
VERSION:2.0
PRODID:-//Eventin//Event Calendar//EN
CALSCALE:GREGORIAN
METHOD:PUBLISH
BEGIN:VEVENT
UID:64b3c8c000342b7d8c9d0bd6e4049838@sotsmuk.org
SUMMARY:MidWeek Service
DESCRIPTION:✨ Midweek Service – Christ Life Church ✨\nIt’s Midweek\
 , family — and we’re gathering again to be refreshed\, refocused\, and 
 strengthened in God’s presence.\nJoin us tonight for a powerful time of w
 orship\, prayer\, and the Word. Midweek is where we pause\, breathe\, and r
 ealign our hearts with what God is doing in our lives.\n📅 Every Wednesda
 ys⏰ 7:00 PM📍 Christ Life Church - 100-106 Westmoor Street\, London\, S
 E7 8NQ\n 
LOCATION:Hybrid
DTSTAMP:20260421T094648Z
DTSTART:20260422T180000Z
DTEND:20260422T193000Z
END:VEVENT
END:VCALENDAR
